BEGIN:VCALENDAR
VERSION:2.0
PRODID:-//ISKCON Hubli - ECPv6.8.2.1//NONSGML v1.0//EN
CALSCALE:GREGORIAN
METHOD:PUBLISH
X-WR-CALNAME:ISKCON Hubli
X-ORIGINAL-URL:https://www.iskconhubli.org
X-WR-CALDESC:Events for ISKCON Hubli
REFRESH-INTERVAL;VALUE=DURATION:PT1H
X-Robots-Tag:noindex
X-PUBLISHED-TTL:PT1H
BEGIN:VTIMEZONE
TZID:UTC
BEGIN:STANDARD
TZOFFSETFROM:+0000
TZOFFSETTO:+0000
TZNAME:UTC
DTSTART:20220101T000000
END:STANDARD
END:VTIMEZONE
BEGIN:VEVENT
DTSTART;TZID=UTC:20220214T080000
DTEND;TZID=UTC:20220214T170000
DTSTAMP:20260422T220142
CREATED:20220131T123929Z
LAST-MODIFIED:20220131T123929Z
UID:6122-1644825600-1644858000@www.iskconhubli.org
SUMMARY:Sri Nityananda – On 14th February 2022
DESCRIPTION:Sri Nityananda Trayodashi is the auspicious appearance day of Sri Nityananda Prabhu. The Supreme Lord Sri Krishna appeared in Navadvipa\,
URL:https://www.iskconhubli.org/event/sri-nityananda-on-14th-february-2022/
CATEGORIES:Upcoming
END:VEVENT
BEGIN:VEVENT
DTSTART;TZID=UTC:20220214T080000
DTEND;TZID=UTC:20220214T170000
DTSTAMP:20260422T220142
CREATED:20220131T123851Z
LAST-MODIFIED:20220131T123851Z
UID:6119-1644825600-1644858000@www.iskconhubli.org
SUMMARY:Sri Nityananda Trayodashi – On 14th February 2022
DESCRIPTION:Sri Nityananda Trayodashi is the auspicious appearance day of Sri Nityananda Prabhu. The Supreme Lord Sri Krishna appeared in Navadvipa\,
URL:https://www.iskconhubli.org/event/sri-nityananda-trayodashi-on-14th-february-2022-2/
CATEGORIES:Upcoming
END:VEVENT
BEGIN:VEVENT
DTSTART;TZID=UTC:20220214T080000
DTEND;TZID=UTC:20220214T170000
DTSTAMP:20260422T220142
CREATED:20220131T123847Z
LAST-MODIFIED:20220131T123847Z
UID:6118-1644825600-1644858000@www.iskconhubli.org
SUMMARY:Sri Nityananda Trayodashi – On 14th February 202
DESCRIPTION:Sri Nityananda Trayodashi is the auspicious appearance day of Sri Nityananda Prabhu. The Supreme Lord Sri Krishna appeared in Navadvipa\,
URL:https://www.iskconhubli.org/event/sri-nityananda-trayodashi-on-14th-february-202/
CATEGORIES:Upcoming
END:VEVENT
BEGIN:VEVENT
DTSTART;TZID=UTC:20220214T080000
DTEND;TZID=UTC:20220214T170000
DTSTAMP:20260422T220142
CREATED:20220131T123755Z
LAST-MODIFIED:20220131T123755Z
UID:6116-1644825600-1644858000@www.iskconhubli.org
SUMMARY:Sri Nityananda Trayodashi – On 14th February 2022
DESCRIPTION:Sri Nityananda Trayodashi is the auspicious appearance day of Sri Nityananda Prabhu. The Supreme Lord Sri Krishna appeared in Navadvipa\,
URL:https://www.iskconhubli.org/event/sri-nityananda-trayodashi-on-14th-february-2022/
CATEGORIES:Upcoming
END:VEVENT
END:VCALENDAR